BEGIN:VCALENDAR
VERSION:2.0
PRODID:-//Federación Canaria de Natación - ECPv6.15.11//NONSGML v1.0//EN
CALSCALE:GREGORIAN
METHOD:PUBLISH
X-WR-CALNAME:Federación Canaria de Natación
X-ORIGINAL-URL:https://federacioncanariadenatacion.es
X-WR-CALDESC:Eventos para Federación Canaria de Natación
REFRESH-INTERVAL;VALUE=DURATION:PT1H
X-Robots-Tag:noindex
X-PUBLISHED-TTL:PT1H
BEGIN:VTIMEZONE
TZID:UTC
BEGIN:STANDARD
TZOFFSETFROM:+0000
TZOFFSETTO:+0000
TZNAME:UTC
DTSTART:20250101T000000
END:STANDARD
END:VTIMEZONE
BEGIN:VEVENT
DTSTART;TZID=UTC:20260425T100000
DTEND;TZID=UTC:20260425T170000
DTSTAMP:20260425T103707
CREATED:20260424T073419Z
LAST-MODIFIED:20260424T073419Z
UID:19051-1777111200-1777136400@federacioncanariadenatacion.es
SUMMARY:Jornada de liga mini - Pre Benjamin GC
DESCRIPTION:
URL:https://federacioncanariadenatacion.es/event/jornada-de-liga-mini-pre-benjamin-gc/
LOCATION:Piscina Municipal 29 de Abril\, Calle Mariucha\, 82\, Las Palmas de Gran Canaria\, Gran Canaria\, 35012\, España
CATEGORIES:NATACIÓN
ATTACH;FMTTYPE=image/png:https://federacioncanariadenatacion.es/wp-content/uploads/2023/11/comp-natacion.png
END:VEVENT
BEGIN:VEVENT
DTSTART;TZID=UTC:20260425T100000
DTEND;TZID=UTC:20260425T170000
DTSTAMP:20260425T103707
CREATED:20260424T073621Z
LAST-MODIFIED:20260424T073621Z
UID:19053-1777111200-1777136400@federacioncanariadenatacion.es
SUMMARY:Circuito Canario de Natación - Trofeo LIVVO
DESCRIPTION:
URL:https://federacioncanariadenatacion.es/event/circuito-canario-de-natacion-trofeo-livvo/
LOCATION:C.N. Las Palmas\, Calle Emilio Ley\, Las Palmas de Gran Canaria\, Las Palmas\, 35005\, España
CATEGORIES:NATACIÓN
ATTACH;FMTTYPE=image/png:https://federacioncanariadenatacion.es/wp-content/uploads/2023/11/comp-natacion.png
END:VEVENT
BEGIN:VEVENT
DTSTART;TZID=UTC:20260425T100000
DTEND;TZID=UTC:20260425T170000
DTSTAMP:20260425T103707
CREATED:20260424T074141Z
LAST-MODIFIED:20260424T074141Z
UID:19057-1777111200-1777136400@federacioncanariadenatacion.es
SUMMARY:2ª Jornada liga master de primavera TFE
DESCRIPTION:
URL:https://federacioncanariadenatacion.es/event/2a-jornada-liga-master-de-primavera-tfe-3/
LOCATION:Piscina Municipal Acidalio Lorenzo\, Calle Benito Perez Armas\,1\, Santa Cruz de Tenerife\, Tenerife\, 38007\, España
ATTACH;FMTTYPE=image/png:https://federacioncanariadenatacion.es/wp-content/uploads/2023/12/comp-master.png
END:VEVENT
BEGIN:VEVENT
DTSTART;TZID=UTC:20260425T170000
DTEND;TZID=UTC:20260425T190000
DTSTAMP:20260425T103707
CREATED:20260424T073829Z
LAST-MODIFIED:20260424T073829Z
UID:19055-1777136400-1777143600@federacioncanariadenatacion.es
SUMMARY:4ª jornada liga mini - Pre benjamin TFE
DESCRIPTION:
URL:https://federacioncanariadenatacion.es/event/4a-jornada-liga-mini-pre-benjamin-tfe/
LOCATION:Santa Cruz – Ofra\, Calle Diego de Almagro\, 1\, Santa Cruz de Tenerife\, Tenerife\, 38001\, España
CATEGORIES:NATACIÓN
ATTACH;FMTTYPE=image/png:https://federacioncanariadenatacion.es/wp-content/uploads/2023/11/comp-natacion.png
END:VEVENT
END:VCALENDAR