BEGIN:VCALENDAR
VERSION:2.0
PRODID:-//Federación Canaria de Natación - ECPv6.15.11//NONSGML v1.0//EN
CALSCALE:GREGORIAN
METHOD:PUBLISH
X-WR-CALNAME:Federación Canaria de Natación
X-ORIGINAL-URL:https://federacioncanariadenatacion.es
X-WR-CALDESC:Eventos para Federación Canaria de Natación
REFRESH-INTERVAL;VALUE=DURATION:PT1H
X-Robots-Tag:noindex
X-PUBLISHED-TTL:PT1H
BEGIN:VTIMEZONE
TZID:UTC
BEGIN:STANDARD
TZOFFSETFROM:+0000
TZOFFSETTO:+0000
TZNAME:UTC
DTSTART:20250101T000000
END:STANDARD
END:VTIMEZONE
BEGIN:VEVENT
DTSTART;TZID=UTC:20260307T113000
DTEND;TZID=UTC:20260307T170000
DTSTAMP:20260419T120236
CREATED:20260302T184205Z
LAST-MODIFIED:20260302T184205Z
UID:18931-1772883000-1772902800@federacioncanariadenatacion.es
SUMMARY:Jornada de waterpolo liga infantil
DESCRIPTION:
URL:https://federacioncanariadenatacion.es/event/jornada-de-waterpolo-liga-infantil/
LOCATION:C.N. Las Palmas\, Calle Emilio Ley\, Las Palmas de Gran Canaria\, Las Palmas\, 35005\, España
CATEGORIES:WATERPOLO
ATTACH;FMTTYPE=image/png:https://federacioncanariadenatacion.es/wp-content/uploads/2023/12/comp-wp.png
END:VEVENT
BEGIN:VEVENT
DTSTART;TZID=UTC:20260314T090000
DTEND;TZID=UTC:20260314T120000
DTSTAMP:20260419T120236
CREATED:20260312T122430Z
LAST-MODIFIED:20260312T122430Z
UID:18951-1773478800-1773489600@federacioncanariadenatacion.es
SUMMARY:Jornada de liga de waterpolo cadete TFE
DESCRIPTION:
URL:https://federacioncanariadenatacion.es/event/jornada-de-liga-de-waterpolo-cadete-tfe/
LOCATION:Piscina Municipal Acidalio Lorenzo\, Calle Benito Perez Armas\,1\, Santa Cruz de Tenerife\, Tenerife\, 38007\, España
CATEGORIES:WATERPOLO
ATTACH;FMTTYPE=image/png:https://federacioncanariadenatacion.es/wp-content/uploads/2023/12/comp-wp.png
END:VEVENT
BEGIN:VEVENT
DTSTART;TZID=UTC:20260314T143000
DTEND;TZID=UTC:20260314T180000
DTSTAMP:20260419T120236
CREATED:20260312T122547Z
LAST-MODIFIED:20260312T122547Z
UID:18953-1773498600-1773511200@federacioncanariadenatacion.es
SUMMARY:Jornada de liga de waterpolo Alevin TFE
DESCRIPTION:
URL:https://federacioncanariadenatacion.es/event/jornada-de-liga-de-waterpolo-alevin-tfe/
LOCATION:Piscina Municipal Acidalio Lorenzo\, Calle Benito Perez Armas\,1\, Santa Cruz de Tenerife\, Tenerife\, 38007\, España
CATEGORIES:WATERPOLO
ATTACH;FMTTYPE=image/png:https://federacioncanariadenatacion.es/wp-content/uploads/2023/12/comp-wp.png
END:VEVENT
END:VCALENDAR