BEGIN:VCALENDAR
VERSION:2.0
PRODID:-//Federación Canaria de Natación - ECPv6.15.11//NONSGML v1.0//EN
CALSCALE:GREGORIAN
METHOD:PUBLISH
X-ORIGINAL-URL:https://federacioncanariadenatacion.es
X-WR-CALDESC:Eventos para Federación Canaria de Natación
REFRESH-INTERVAL;VALUE=DURATION:PT1H
X-Robots-Tag:noindex
X-PUBLISHED-TTL:PT1H
BEGIN:VTIMEZONE
TZID:UTC
BEGIN:STANDARD
TZOFFSETFROM:+0000
TZOFFSETTO:+0000
TZNAME:UTC
DTSTART:20250101T000000
END:STANDARD
END:VTIMEZONE
BEGIN:VEVENT
DTSTART;TZID=UTC:20260411T100000
DTEND;TZID=UTC:20260411T133000
DTSTAMP:20260421T140611
CREATED:20260408T092217Z
LAST-MODIFIED:20260408T092217Z
UID:18974-1775901600-1775914200@federacioncanariadenatacion.es
SUMMARY:6ª Jornada liga alevin GC
DESCRIPTION:
URL:https://federacioncanariadenatacion.es/event/6a-jornada-liga-alevin-gc-3/
LOCATION:Piscina Municipal de Agüimes\, Dr. Joaquín Artiles\, s/n\,\, Agüimes\, 35118\, España
CATEGORIES:NATACIÓN
ATTACH;FMTTYPE=image/png:https://federacioncanariadenatacion.es/wp-content/uploads/2023/11/comp-natacion.png
END:VEVENT
BEGIN:VEVENT
DTSTART;TZID=UTC:20260411T100000
DTEND;TZID=UTC:20260411T120000
DTSTAMP:20260421T140611
CREATED:20260408T092616Z
LAST-MODIFIED:20260408T092616Z
UID:18978-1775901600-1775908800@federacioncanariadenatacion.es
SUMMARY:6ª Jornada liga benjamin de natación TFE
DESCRIPTION:
URL:https://federacioncanariadenatacion.es/event/6a-jornada-liga-benjamin-de-natacion-tfe/
LOCATION:Piscina Municipal Los Realejos\, Calle San Isidro\, 42\, Los Realejos\, Tenerife\, 38419
CATEGORIES:NATACIÓN
ATTACH;FMTTYPE=image/png:https://federacioncanariadenatacion.es/wp-content/uploads/2023/11/comp-natacion.png
END:VEVENT
BEGIN:VEVENT
DTSTART;TZID=UTC:20260314T163000
DTEND;TZID=UTC:20260314T183000
DTSTAMP:20260421T140611
CREATED:20260312T121008Z
LAST-MODIFIED:20260312T121008Z
UID:18940-1773505800-1773513000@federacioncanariadenatacion.es
SUMMARY:5ª Jornada liga Alevin GC
DESCRIPTION:
URL:https://federacioncanariadenatacion.es/event/5a-jornada-liga-alevin-gc/
LOCATION:Piscina Municipal 29 de Abril\, Calle Mariucha\, 82\, Las Palmas de Gran Canaria\, Gran Canaria\, 35012\, España
CATEGORIES:NATACIÓN
ATTACH;FMTTYPE=image/png:https://federacioncanariadenatacion.es/wp-content/uploads/2023/11/comp-natacion.png
END:VEVENT
BEGIN:VEVENT
DTSTART;TZID=UTC:20260314T143000
DTEND;TZID=UTC:20260314T180000
DTSTAMP:20260421T140611
CREATED:20260312T122547Z
LAST-MODIFIED:20260312T122547Z
UID:18953-1773498600-1773511200@federacioncanariadenatacion.es
SUMMARY:Jornada de liga de waterpolo Alevin TFE
DESCRIPTION:
URL:https://federacioncanariadenatacion.es/event/jornada-de-liga-de-waterpolo-alevin-tfe/
LOCATION:Piscina Municipal Acidalio Lorenzo\, Calle Benito Perez Armas\,1\, Santa Cruz de Tenerife\, Tenerife\, 38007\, España
CATEGORIES:WATERPOLO
ATTACH;FMTTYPE=image/png:https://federacioncanariadenatacion.es/wp-content/uploads/2023/12/comp-wp.png
END:VEVENT
BEGIN:VEVENT
DTSTART;TZID=UTC:20260314T123000
DTEND;TZID=UTC:20260314T170000
DTSTAMP:20260421T140611
CREATED:20260312T121746Z
LAST-MODIFIED:20260312T121746Z
UID:18947-1773491400-1773507600@federacioncanariadenatacion.es
SUMMARY:5ª Jornada liga Alevin TFE
DESCRIPTION:
URL:https://federacioncanariadenatacion.es/event/5a-jornada-liga-alevin-tfe/
LOCATION:Piscina Municipal Los Realejos\, Calle San Isidro\, 42\, Los Realejos\, Tenerife\, 38419
CATEGORIES:NATACIÓN
ATTACH;FMTTYPE=image/png:https://federacioncanariadenatacion.es/wp-content/uploads/2023/11/comp-natacion.png
END:VEVENT
BEGIN:VEVENT
DTSTART;TZID=UTC:20260314T100000
DTEND;TZID=UTC:20260314T170000
DTSTAMP:20260421T140611
CREATED:20260312T122152Z
LAST-MODIFIED:20260312T122152Z
UID:18949-1773482400-1773507600@federacioncanariadenatacion.es
SUMMARY:1ª Jornada Liga primavera master LZT
DESCRIPTION:
URL:https://federacioncanariadenatacion.es/event/1a-jornada-liga-primavera-master-lzt/
LOCATION:Barceló Lanzarote Active Resort\, Av. del Mar\, nº5\, teguise\, Las Palmas\, 35508\, España
CATEGORIES:MASTER
ATTACH;FMTTYPE=image/png:https://federacioncanariadenatacion.es/wp-content/uploads/2023/12/comp-master.png
END:VEVENT
BEGIN:VEVENT
DTSTART;TZID=UTC:20260314T100000
DTEND;TZID=UTC:20260314T170000
DTSTAMP:20260421T140611
CREATED:20260312T120824Z
LAST-MODIFIED:20260312T120824Z
UID:18938-1773482400-1773507600@federacioncanariadenatacion.es
SUMMARY:Jornada liga Absoluta - Circuito GC
DESCRIPTION:
URL:https://federacioncanariadenatacion.es/event/jornada-liga-absoluta-circuito-gc/
LOCATION:Piscina Municipal La Unión Vecindario\, Av. de la Unión\, s/n\, 35110 Vecindario\, Las Palmas\, Vecindario\, Las Palmas\, 35110\, España
CATEGORIES:NATACIÓN
ATTACH;FMTTYPE=image/png:https://federacioncanariadenatacion.es/wp-content/uploads/2023/11/comp-natacion.png
END:VEVENT
BEGIN:VEVENT
DTSTART;TZID=UTC:20260314T100000
DTEND;TZID=UTC:20260314T120000
DTSTAMP:20260421T140611
CREATED:20260312T121612Z
LAST-MODIFIED:20260312T121612Z
UID:18945-1773482400-1773489600@federacioncanariadenatacion.es
SUMMARY:5ª Jornada Benjamin TFE
DESCRIPTION:
URL:https://federacioncanariadenatacion.es/event/5a-jornada-benjamin-tfe/
LOCATION:Piscina Municipal Los Realejos\, Calle San Isidro\, 42\, Los Realejos\, Tenerife\, 38419
CATEGORIES:NATACIÓN
ATTACH;FMTTYPE=image/png:https://federacioncanariadenatacion.es/wp-content/uploads/2023/11/comp-natacion.png
END:VEVENT
BEGIN:VEVENT
DTSTART;TZID=UTC:20260314T090000
DTEND;TZID=UTC:20260314T123000
DTSTAMP:20260421T140611
CREATED:20260312T121444Z
LAST-MODIFIED:20260312T121444Z
UID:18942-1773478800-1773491400@federacioncanariadenatacion.es
SUMMARY:Jornada liga Absoluta - circuito TFE
DESCRIPTION:
URL:https://federacioncanariadenatacion.es/event/jornada-liga-absoluta-circuito-tfe/
LOCATION:RCNT\, Francisco LAroche\, Santa cruz de tenerife\, Tenerife\, 38001\, Spain
CATEGORIES:NATACIÓN
ATTACH;FMTTYPE=image/png:https://federacioncanariadenatacion.es/wp-content/uploads/2023/11/comp-natacion.png
END:VEVENT
BEGIN:VEVENT
DTSTART;TZID=UTC:20260314T090000
DTEND;TZID=UTC:20260314T120000
DTSTAMP:20260421T140611
CREATED:20260312T122430Z
LAST-MODIFIED:20260312T122430Z
UID:18951-1773478800-1773489600@federacioncanariadenatacion.es
SUMMARY:Jornada de liga de waterpolo cadete TFE
DESCRIPTION:
URL:https://federacioncanariadenatacion.es/event/jornada-de-liga-de-waterpolo-cadete-tfe/
LOCATION:Piscina Municipal Acidalio Lorenzo\, Calle Benito Perez Armas\,1\, Santa Cruz de Tenerife\, Tenerife\, 38007\, España
CATEGORIES:WATERPOLO
ATTACH;FMTTYPE=image/png:https://federacioncanariadenatacion.es/wp-content/uploads/2023/12/comp-wp.png
END:VEVENT
BEGIN:VEVENT
DTSTART;TZID=UTC:20260307T113000
DTEND;TZID=UTC:20260307T170000
DTSTAMP:20260421T140611
CREATED:20260302T184205Z
LAST-MODIFIED:20260302T184205Z
UID:18931-1772883000-1772902800@federacioncanariadenatacion.es
SUMMARY:Jornada de waterpolo liga infantil
DESCRIPTION:
URL:https://federacioncanariadenatacion.es/event/jornada-de-waterpolo-liga-infantil/
LOCATION:C.N. Las Palmas\, Calle Emilio Ley\, Las Palmas de Gran Canaria\, Las Palmas\, 35005\, España
CATEGORIES:WATERPOLO
ATTACH;FMTTYPE=image/png:https://federacioncanariadenatacion.es/wp-content/uploads/2023/12/comp-wp.png
END:VEVENT
BEGIN:VEVENT
DTSTART;TZID=UTC:20260228T160000
DTEND;TZID=UTC:20260228T180000
DTSTAMP:20260421T140611
CREATED:20260226T181754Z
LAST-MODIFIED:20260226T181754Z
UID:18901-1772294400-1772301600@federacioncanariadenatacion.es
SUMMARY:2ª Jornada mini - Pre de natación TFE
DESCRIPTION:
URL:https://federacioncanariadenatacion.es/event/2a-jornada-mini-pre-de-natacion-tfe/
LOCATION:Santa Cruz – Ofra\, Calle Diego de Almagro\, 1\, Santa Cruz de Tenerife\, Tenerife\, 38001\, España
CATEGORIES:NATACIÓN
ATTACH;FMTTYPE=image/png:https://federacioncanariadenatacion.es/wp-content/uploads/2023/11/comp-natacion.png
END:VEVENT
BEGIN:VEVENT
DTSTART;TZID=UTC:20260228T100000
DTEND;TZID=UTC:20260228T140000
DTSTAMP:20260421T140611
CREATED:20260226T181451Z
LAST-MODIFIED:20260226T181451Z
UID:18899-1772272800-1772287200@federacioncanariadenatacion.es
SUMMARY:3ª Jornada liga mini - Pre de natación GC
DESCRIPTION:
URL:https://federacioncanariadenatacion.es/event/3a-jornada-liga-mini-pre-de-natacion-gc/
LOCATION:Piscina Municipal de Agüimes\, Dr. Joaquín Artiles\, s/n\,\, Agüimes\, 35118\, España
CATEGORIES:NATACIÓN
ATTACH;FMTTYPE=image/png:https://federacioncanariadenatacion.es/wp-content/uploads/2023/11/comp-natacion.png
END:VEVENT
BEGIN:VEVENT
DTSTART;TZID=UTC:20260228T090000
DTEND;TZID=UTC:20260228T180000
DTSTAMP:20260421T140611
CREATED:20260226T182016Z
LAST-MODIFIED:20260226T182016Z
UID:18903-1772269200-1772301600@federacioncanariadenatacion.es
SUMMARY:5ª Jornada absoluta de natación TFE
DESCRIPTION:
URL:https://federacioncanariadenatacion.es/event/5a-jornada-absoluta-de-natacion-tfe/
LOCATION:Piscina Municipal Acidalio Lorenzo\, Calle Benito Perez Armas\,1\, Santa Cruz de Tenerife\, Tenerife\, 38007\, España
CATEGORIES:NATACIÓN
ATTACH;FMTTYPE=image/png:https://federacioncanariadenatacion.es/wp-content/uploads/2023/11/comp-natacion.png
END:VEVENT
BEGIN:VEVENT
DTSTART;TZID=UTC:20260220T180000
DTEND;TZID=UTC:20260222T160000
DTSTAMP:20260421T140611
CREATED:20260210T123623Z
LAST-MODIFIED:20260210T123624Z
UID:18852-1771610400-1771776000@federacioncanariadenatacion.es
SUMMARY:Campeonato Regional de natación Absoluto
DESCRIPTION:
URL:https://federacioncanariadenatacion.es/event/campeonato-regional-de-natacion-absoluto/
LOCATION:CDAT PUERTO DE LA CRUZ\, CALLE LUIS LAVAGGI\, 10\, PUERTO DE LA CRUZ\, Tenerife\, 38400\, Spain
CATEGORIES:NATACIÓN
ATTACH;FMTTYPE=image/jpeg:https://federacioncanariadenatacion.es/wp-content/uploads/2026/02/regional-de-invierno-absoluto.jpeg
END:VEVENT
BEGIN:VEVENT
DTSTART;TZID=UTC:20260214T090000
DTEND;TZID=UTC:20260214T143000
DTSTAMP:20260421T140611
CREATED:20260210T121837Z
LAST-MODIFIED:20260210T121839Z
UID:18849-1771059600-1771079400@federacioncanariadenatacion.es
SUMMARY:Regional Master de Larga distancia 26
DESCRIPTION:
URL:https://federacioncanariadenatacion.es/event/regional-master-de-larga-distancia-26/
LOCATION:C.N. Metropole\, Calle León y Castillo\, 254\, Las Palmas de Gran Canaria\, LAS PALMAS\, 35005\, España
CATEGORIES:MASTER
ATTACH;FMTTYPE=image/jpeg:https://federacioncanariadenatacion.es/wp-content/uploads/2026/02/larga-distancia-master-26.jpeg
END:VEVENT
BEGIN:VEVENT
DTSTART;TZID=UTC:20260207T090000
DTEND;TZID=UTC:20260208T150000
DTSTAMP:20260421T140611
CREATED:20260204T122258Z
LAST-MODIFIED:20260204T122300Z
UID:18834-1770454800-1770562800@federacioncanariadenatacion.es
SUMMARY:Campeonato Regional de natación artística de invierno 2026
DESCRIPTION:
URL:https://federacioncanariadenatacion.es/event/campeonato-regional-de-natacion-artistica-de-invierno-2026/
LOCATION:C.N. Metropole\, Calle León y Castillo\, 254\, Las Palmas de Gran Canaria\, LAS PALMAS\, 35005\, España
CATEGORIES:ARTÍSTICA
ATTACH;FMTTYPE=image/jpeg:https://federacioncanariadenatacion.es/wp-content/uploads/2026/02/regional-de-artistica-de-invierno.jpeg
END:VEVENT
BEGIN:VEVENT
DTSTART;TZID=UTC:20260201T100000
DTEND;TZID=UTC:20260201T170000
DTSTAMP:20260421T140611
CREATED:20260128T100713Z
LAST-MODIFIED:20260128T100713Z
UID:18761-1769940000-1769965200@federacioncanariadenatacion.es
SUMMARY:Jornasda liga Cadete de waterpolo TFE
DESCRIPTION:
URL:https://federacioncanariadenatacion.es/event/jornasda-liga-cadete-de-waterpolo-tfe/
LOCATION:Piscina Municipal Acidalio Lorenzo\, Calle Benito Perez Armas\,1\, Santa Cruz de Tenerife\, Tenerife\, 38007\, España
CATEGORIES:WATERPOLO
ATTACH;FMTTYPE=image/png:https://federacioncanariadenatacion.es/wp-content/uploads/2023/12/comp-wp.png
END:VEVENT
BEGIN:VEVENT
DTSTART;TZID=UTC:20260131T160000
DTEND;TZID=UTC:20260131T170000
DTSTAMP:20260421T140611
CREATED:20260128T095707Z
LAST-MODIFIED:20260128T095707Z
UID:18755-1769875200-1769878800@federacioncanariadenatacion.es
SUMMARY:2ª Jornada liga de figuras TFE
DESCRIPTION:
URL:https://federacioncanariadenatacion.es/event/2a-jornada-liga-de-figuras-tfe/
LOCATION:Piscina Municipal Acidalio Lorenzo\, Calle Benito Perez Armas\,1\, Santa Cruz de Tenerife\, Tenerife\, 38007\, España
CATEGORIES:ARTÍSTICA
ATTACH;FMTTYPE=image/png:https://federacioncanariadenatacion.es/wp-content/uploads/2023/12/comp-artistica.png
END:VEVENT
BEGIN:VEVENT
DTSTART;TZID=UTC:20260131T123000
DTEND;TZID=UTC:20260131T170000
DTSTAMP:20260421T140611
CREATED:20260128T094821Z
LAST-MODIFIED:20260128T094821Z
UID:18751-1769862600-1769878800@federacioncanariadenatacion.es
SUMMARY:1ª  Jornada liga mini - pre benjamin de natación LZT - FUE
DESCRIPTION:
URL:https://federacioncanariadenatacion.es/event/1a-jornada-liga-mini-pre-benjamin-de-natacion-lzt-fue/
LOCATION:Colegio Arenas LZT\, avenida del mar\, 37\, Costa Teguise\, LAs Palmas\, 35508\, España
CATEGORIES:NATACIÓN
ATTACH;FMTTYPE=image/png:https://federacioncanariadenatacion.es/wp-content/uploads/2023/11/comp-natacion.png
END:VEVENT
BEGIN:VEVENT
DTSTART;TZID=UTC:20260131T103000
DTEND;TZID=UTC:20260131T130000
DTSTAMP:20260421T140611
CREATED:20260128T100527Z
LAST-MODIFIED:20260128T100527Z
UID:18759-1769855400-1769864400@federacioncanariadenatacion.es
SUMMARY:Jornada de liga cadete de waterpolo GC
DESCRIPTION:
URL:https://federacioncanariadenatacion.es/event/jornada-de-liga-cadete-de-waterpolo-gc/
LOCATION:C.N. Metropole\, Calle León y Castillo\, 254\, Las Palmas de Gran Canaria\, LAS PALMAS\, 35005\, España
CATEGORIES:WATERPOLO
ATTACH;FMTTYPE=image/png:https://federacioncanariadenatacion.es/wp-content/uploads/2023/12/comp-wp.png
END:VEVENT
BEGIN:VEVENT
DTSTART;TZID=UTC:20260131T100000
DTEND;TZID=UTC:20260131T170000
DTSTAMP:20260421T140611
CREATED:20260128T095856Z
LAST-MODIFIED:20260128T095856Z
UID:18757-1769853600-1769878800@federacioncanariadenatacion.es
SUMMARY:2ª Jornada liga de figuras LZT
DESCRIPTION:
URL:https://federacioncanariadenatacion.es/event/2a-jornada-liga-de-figuras-lzt/
LOCATION:Las Palmas
CATEGORIES:ARTÍSTICA
ATTACH;FMTTYPE=image/png:https://federacioncanariadenatacion.es/wp-content/uploads/2023/12/comp-artistica.png
END:VEVENT
BEGIN:VEVENT
DTSTART;TZID=UTC:20260131T100000
DTEND;TZID=UTC:20260131T170000
DTSTAMP:20260421T140611
CREATED:20260128T095445Z
LAST-MODIFIED:20260128T095445Z
UID:18753-1769853600-1769878800@federacioncanariadenatacion.es
SUMMARY:2ª Jornada liga de figuras Artística GC
DESCRIPTION:
URL:https://federacioncanariadenatacion.es/event/2a-jornada-liga-de-figuras-artistica-gc/
LOCATION:C.N. Metropole\, Calle León y Castillo\, 254\, Las Palmas de Gran Canaria\, LAS PALMAS\, 35005\, España
CATEGORIES:NATACIÓN
ATTACH;FMTTYPE=image/png:https://federacioncanariadenatacion.es/wp-content/uploads/2023/12/comp-artistica.png
END:VEVENT
BEGIN:VEVENT
DTSTART;TZID=UTC:20260131T100000
DTEND;TZID=UTC:20260131T133000
DTSTAMP:20260421T140611
CREATED:20260128T094002Z
LAST-MODIFIED:20260128T094002Z
UID:18749-1769853600-1769866200@federacioncanariadenatacion.es
SUMMARY:1ª Jornada liga mini-pre benjamin de natación GC
DESCRIPTION:
URL:https://federacioncanariadenatacion.es/event/1a-jornada-liga-mini-pre-benjamin-de-natacion-gc/
LOCATION:Piscina Municipal 29 de Abril\, Calle Mariucha\, 82\, Las Palmas de Gran Canaria\, Gran Canaria\, 35012\, España
CATEGORIES:NATACIÓN
ATTACH;FMTTYPE=image/png:https://federacioncanariadenatacion.es/wp-content/uploads/2023/11/comp-natacion.png
END:VEVENT
BEGIN:VEVENT
DTSTART;TZID=UTC:20260125T110000
DTEND;TZID=UTC:20260125T130000
DTSTAMP:20260421T140611
CREATED:20260119T173144Z
LAST-MODIFIED:20260119T173232Z
UID:18731-1769338800-1769346000@federacioncanariadenatacion.es
SUMMARY:Jornada de liga regional Cadete de waterpolo
DESCRIPTION:
URL:https://federacioncanariadenatacion.es/event/jornada-de-liga-regional-cadete-de-waterpolo/
LOCATION:C.N. Las Palmas\, Calle Emilio Ley\, Las Palmas de Gran Canaria\, Las Palmas\, 35005\, España
CATEGORIES:WATERPOLO
ATTACH;FMTTYPE=image/png:https://federacioncanariadenatacion.es/wp-content/uploads/2023/12/comp-wp.png
END:VEVENT
BEGIN:VEVENT
DTSTART;TZID=UTC:20260124T133000
DTEND;TZID=UTC:20260124T170000
DTSTAMP:20260421T140611
CREATED:20260119T175344Z
LAST-MODIFIED:20260119T175344Z
UID:18739-1769261400-1769274000@federacioncanariadenatacion.es
SUMMARY:4ª Jornada liga absoluta TFE
DESCRIPTION:
URL:https://federacioncanariadenatacion.es/event/4a-jornada-liga-absoluta-tfe/
LOCATION:piscina municipal de Los Cristianos\, avenida Chayofita\, 12\, Arona\, Tenerife\, 38650\, España
CATEGORIES:NATACIÓN
ATTACH;FMTTYPE=image/png:https://federacioncanariadenatacion.es/wp-content/uploads/2023/11/comp-natacion.png
END:VEVENT
BEGIN:VEVENT
DTSTART;TZID=UTC:20260124T110000
DTEND;TZID=UTC:20260124T170000
DTSTAMP:20260421T140611
CREATED:20260119T174946Z
LAST-MODIFIED:20260119T174946Z
UID:18735-1769252400-1769274000@federacioncanariadenatacion.es
SUMMARY:4ª Jornada liga Absoluta FUIE - LZT
DESCRIPTION:
URL:https://federacioncanariadenatacion.es/event/4a-jornada-liga-absoluta-fuie-lzt/
LOCATION:Barceló Lanzarote Active Resort\, Av. del Mar\, nº5\, teguise\, Las Palmas\, 35508\, España
CATEGORIES:NATACIÓN
ATTACH;FMTTYPE=image/png:https://federacioncanariadenatacion.es/wp-content/uploads/2023/11/comp-natacion.png
END:VEVENT
BEGIN:VEVENT
DTSTART;TZID=UTC:20260124T110000
DTEND;TZID=UTC:20260124T170000
DTSTAMP:20260421T140611
CREATED:20260119T174825Z
LAST-MODIFIED:20260119T174825Z
UID:18733-1769252400-1769274000@federacioncanariadenatacion.es
SUMMARY:4ª Jornada liga Benjamin - Alevin FUE-LZT
DESCRIPTION:
URL:https://federacioncanariadenatacion.es/event/4a-jornada-liga-benjamin-alevin-fue-lzt/
LOCATION:Barceló Lanzarote Active Resort\, Av. del Mar\, nº5\, teguise\, Las Palmas\, 35508\, España
CATEGORIES:NATACIÓN
ATTACH;FMTTYPE=image/png:https://federacioncanariadenatacion.es/wp-content/uploads/2023/11/comp-natacion.png
END:VEVENT
BEGIN:VEVENT
DTSTART;TZID=UTC:20260124T100000
DTEND;TZID=UTC:20260125T120000
DTSTAMP:20260421T140611
CREATED:20260121T190616Z
LAST-MODIFIED:20260121T190617Z
UID:18741-1769248800-1769342400@federacioncanariadenatacion.es
SUMMARY:Campeonato Regional de invierno de saltos 26
DESCRIPTION:
URL:https://federacioncanariadenatacion.es/event/campeonato-regional-de-invierno-de-saltos-26/
LOCATION:Piscina Municipal La Unión Vecindario\, Av. de la Unión\, s/n\, 35110 Vecindario\, Las Palmas\, Vecindario\, Las Palmas\, 35110\, España
CATEGORIES:SALTOS
ATTACH;FMTTYPE=image/jpeg:https://federacioncanariadenatacion.es/wp-content/uploads/2026/01/WhatsApp-Image-2026-01-20-at-16.21.11.jpeg
END:VEVENT
BEGIN:VEVENT
DTSTART;TZID=UTC:20260124T100000
DTEND;TZID=UTC:20260124T170000
DTSTAMP:20260421T140611
CREATED:20260119T175150Z
LAST-MODIFIED:20260119T175150Z
UID:18737-1769248800-1769274000@federacioncanariadenatacion.es
SUMMARY:4ª Jornada liga Absoluta GC
DESCRIPTION:
URL:https://federacioncanariadenatacion.es/event/4a-jornada-liga-absoluta-gc/
LOCATION:C.N. Metropole\, Calle León y Castillo\, 254\, Las Palmas de Gran Canaria\, LAS PALMAS\, 35005\, España
CATEGORIES:NATACIÓN
END:VEVENT
END:VCALENDAR