BEGIN:VCALENDAR
VERSION:2.0
PRODID:-//Federación Canaria de Natación - ECPv6.15.11//NONSGML v1.0//EN
CALSCALE:GREGORIAN
METHOD:PUBLISH
X-ORIGINAL-URL:https://federacioncanariadenatacion.es
X-WR-CALDESC:Eventos para Federación Canaria de Natación
REFRESH-INTERVAL;VALUE=DURATION:PT1H
X-Robots-Tag:noindex
X-PUBLISHED-TTL:PT1H
BEGIN:VTIMEZONE
TZID:UTC
BEGIN:STANDARD
TZOFFSETFROM:+0000
TZOFFSETTO:+0000
TZNAME:UTC
DTSTART:20240101T000000
END:STANDARD
END:VTIMEZONE
BEGIN:VEVENT
DTSTART;TZID=UTC:20260125T110000
DTEND;TZID=UTC:20260125T130000
DTSTAMP:20260425T102849
CREATED:20260119T173144Z
LAST-MODIFIED:20260119T173232Z
UID:18731-1769338800-1769346000@federacioncanariadenatacion.es
SUMMARY:Jornada de liga regional Cadete de waterpolo
DESCRIPTION:
URL:https://federacioncanariadenatacion.es/event/jornada-de-liga-regional-cadete-de-waterpolo/
LOCATION:C.N. Las Palmas\, Calle Emilio Ley\, Las Palmas de Gran Canaria\, Las Palmas\, 35005\, España
CATEGORIES:WATERPOLO
ATTACH;FMTTYPE=image/png:https://federacioncanariadenatacion.es/wp-content/uploads/2023/12/comp-wp.png
END:VEVENT
BEGIN:VEVENT
DTSTART;TZID=UTC:20260124T133000
DTEND;TZID=UTC:20260124T170000
DTSTAMP:20260425T102849
CREATED:20260119T175344Z
LAST-MODIFIED:20260119T175344Z
UID:18739-1769261400-1769274000@federacioncanariadenatacion.es
SUMMARY:4ª Jornada liga absoluta TFE
DESCRIPTION:
URL:https://federacioncanariadenatacion.es/event/4a-jornada-liga-absoluta-tfe/
LOCATION:piscina municipal de Los Cristianos\, avenida Chayofita\, 12\, Arona\, Tenerife\, 38650\, España
CATEGORIES:NATACIÓN
ATTACH;FMTTYPE=image/png:https://federacioncanariadenatacion.es/wp-content/uploads/2023/11/comp-natacion.png
END:VEVENT
BEGIN:VEVENT
DTSTART;TZID=UTC:20260124T110000
DTEND;TZID=UTC:20260124T170000
DTSTAMP:20260425T102849
CREATED:20260119T174946Z
LAST-MODIFIED:20260119T174946Z
UID:18735-1769252400-1769274000@federacioncanariadenatacion.es
SUMMARY:4ª Jornada liga Absoluta FUIE - LZT
DESCRIPTION:
URL:https://federacioncanariadenatacion.es/event/4a-jornada-liga-absoluta-fuie-lzt/
LOCATION:Barceló Lanzarote Active Resort\, Av. del Mar\, nº5\, teguise\, Las Palmas\, 35508\, España
CATEGORIES:NATACIÓN
ATTACH;FMTTYPE=image/png:https://federacioncanariadenatacion.es/wp-content/uploads/2023/11/comp-natacion.png
END:VEVENT
BEGIN:VEVENT
DTSTART;TZID=UTC:20260124T110000
DTEND;TZID=UTC:20260124T170000
DTSTAMP:20260425T102849
CREATED:20260119T174825Z
LAST-MODIFIED:20260119T174825Z
UID:18733-1769252400-1769274000@federacioncanariadenatacion.es
SUMMARY:4ª Jornada liga Benjamin - Alevin FUE-LZT
DESCRIPTION:
URL:https://federacioncanariadenatacion.es/event/4a-jornada-liga-benjamin-alevin-fue-lzt/
LOCATION:Barceló Lanzarote Active Resort\, Av. del Mar\, nº5\, teguise\, Las Palmas\, 35508\, España
CATEGORIES:NATACIÓN
ATTACH;FMTTYPE=image/png:https://federacioncanariadenatacion.es/wp-content/uploads/2023/11/comp-natacion.png
END:VEVENT
BEGIN:VEVENT
DTSTART;TZID=UTC:20260124T100000
DTEND;TZID=UTC:20260125T120000
DTSTAMP:20260425T102849
CREATED:20260121T190616Z
LAST-MODIFIED:20260121T190617Z
UID:18741-1769248800-1769342400@federacioncanariadenatacion.es
SUMMARY:Campeonato Regional de invierno de saltos 26
DESCRIPTION:
URL:https://federacioncanariadenatacion.es/event/campeonato-regional-de-invierno-de-saltos-26/
LOCATION:Piscina Municipal La Unión Vecindario\, Av. de la Unión\, s/n\, 35110 Vecindario\, Las Palmas\, Vecindario\, Las Palmas\, 35110\, España
CATEGORIES:SALTOS
ATTACH;FMTTYPE=image/jpeg:https://federacioncanariadenatacion.es/wp-content/uploads/2026/01/WhatsApp-Image-2026-01-20-at-16.21.11.jpeg
END:VEVENT
BEGIN:VEVENT
DTSTART;TZID=UTC:20260124T100000
DTEND;TZID=UTC:20260124T170000
DTSTAMP:20260425T102849
CREATED:20260119T175150Z
LAST-MODIFIED:20260119T175150Z
UID:18737-1769248800-1769274000@federacioncanariadenatacion.es
SUMMARY:4ª Jornada liga Absoluta GC
DESCRIPTION:
URL:https://federacioncanariadenatacion.es/event/4a-jornada-liga-absoluta-gc/
LOCATION:C.N. Metropole\, Calle León y Castillo\, 254\, Las Palmas de Gran Canaria\, LAS PALMAS\, 35005\, España
CATEGORIES:NATACIÓN
END:VEVENT
BEGIN:VEVENT
DTSTART;TZID=UTC:20260124T093000
DTEND;TZID=UTC:20260124T143000
DTSTAMP:20260425T102849
CREATED:20260119T172948Z
LAST-MODIFIED:20260121T200146Z
UID:18729-1769247000-1769265000@federacioncanariadenatacion.es
SUMMARY:Jornada de liga regional Infantil de waterpolo
DESCRIPTION:
URL:https://federacioncanariadenatacion.es/event/jornada-de-liga-regional-infantil-de-waterpolo/
LOCATION:CDAT PUERTO DE LA CRUZ\, CALLE LUIS LAVAGGI\, 10\, PUERTO DE LA CRUZ\, Tenerife\, 38400\, Spain
CATEGORIES:WATERPOLO
ATTACH;FMTTYPE=image/png:https://federacioncanariadenatacion.es/wp-content/uploads/2023/12/comp-wp.png
END:VEVENT
BEGIN:VEVENT
DTSTART;TZID=UTC:20260110T120000
DTEND;TZID=UTC:20260110T170000
DTSTAMP:20260425T102849
CREATED:20260107T115427Z
LAST-MODIFIED:20260107T115427Z
UID:18714-1768046400-1768064400@federacioncanariadenatacion.es
SUMMARY:JORNADA LIGA WATERPOLO INF/CAD/ABS GC
DESCRIPTION:
URL:https://federacioncanariadenatacion.es/event/jornada-liga-waterpolo-inf-cad-abs-gc/
LOCATION:C.N. Las Palmas\, Calle Emilio Ley\, Las Palmas de Gran Canaria\, Las Palmas\, 35005\, España
CATEGORIES:WATERPOLO
ATTACH;FMTTYPE=image/png:https://federacioncanariadenatacion.es/wp-content/uploads/2023/12/comp-wp.png
END:VEVENT
BEGIN:VEVENT
DTSTART;TZID=UTC:20260110T100000
DTEND;TZID=UTC:20260110T170000
DTSTAMP:20260425T102849
CREATED:20260107T120009Z
LAST-MODIFIED:20260107T120009Z
UID:18718-1768039200-1768064400@federacioncanariadenatacion.es
SUMMARY:JUEGOS IMD LAS PALMAS DE NATACIÓN
DESCRIPTION:
URL:https://federacioncanariadenatacion.es/event/juegos-imd-las-palmas-de-natacion/
LOCATION:Piscina Municipal 29 de Abril\, Calle Mariucha\, 82\, Las Palmas de Gran Canaria\, Gran Canaria\, 35012\, España
CATEGORIES:NATACIÓN
ATTACH;FMTTYPE=image/png:https://federacioncanariadenatacion.es/wp-content/uploads/2023/11/comp-natacion.png
END:VEVENT
BEGIN:VEVENT
DTSTART;TZID=UTC:20260110T093000
DTEND;TZID=UTC:20260110T170000
DTSTAMP:20260425T102849
CREATED:20260107T115623Z
LAST-MODIFIED:20260107T115623Z
UID:18716-1768037400-1768064400@federacioncanariadenatacion.es
SUMMARY:JORNADA WATERPOLO INF/CAD/ABS TFE
DESCRIPTION:
URL:https://federacioncanariadenatacion.es/event/jornada-waterpolo-inf-cad-abs-tfe/
LOCATION:Piscina Municipal Acidalio Lorenzo\, Calle Benito Perez Armas\,1\, Santa Cruz de Tenerife\, Tenerife\, 38007\, España
CATEGORIES:WATERPOLO
ATTACH;FMTTYPE=image/png:https://federacioncanariadenatacion.es/wp-content/uploads/2023/12/comp-wp.png
END:VEVENT
BEGIN:VEVENT
DTSTART;TZID=UTC:20251221T103000
DTEND;TZID=UTC:20251221T170000
DTSTAMP:20260425T102849
CREATED:20251215T214631Z
LAST-MODIFIED:20251215T214631Z
UID:18670-1766313000-1766336400@federacioncanariadenatacion.es
SUMMARY:Jornada liga regional juvenil de Waterpolo
DESCRIPTION:
URL:https://federacioncanariadenatacion.es/event/jornada-liga-regional-juvenil-de-waterpolo/
LOCATION:Piscina Municipal Acidalio Lorenzo\, Calle Benito Perez Armas\,1\, Santa Cruz de Tenerife\, Tenerife\, 38007\, España
CATEGORIES:WATERPOLO
ATTACH;FMTTYPE=image/png:https://federacioncanariadenatacion.es/wp-content/uploads/2023/12/comp-wp.png
END:VEVENT
BEGIN:VEVENT
DTSTART;TZID=UTC:20251220T130000
DTEND;TZID=UTC:20251220T170000
DTSTAMP:20260425T102849
CREATED:20251215T214755Z
LAST-MODIFIED:20251215T214755Z
UID:18672-1766235600-1766250000@federacioncanariadenatacion.es
SUMMARY:Jornada liga alevin de waterpolo
DESCRIPTION:
URL:https://federacioncanariadenatacion.es/event/jornada-liga-alevin-de-waterpolo-3/
LOCATION:C.N. Las Palmas\, Calle Emilio Ley\, Las Palmas de Gran Canaria\, Las Palmas\, 35005\, España
ATTACH;FMTTYPE=image/png:https://federacioncanariadenatacion.es/wp-content/uploads/2023/12/comp-wp.png
END:VEVENT
BEGIN:VEVENT
DTSTART;TZID=UTC:20251219T180000
DTEND;TZID=UTC:20251221T093000
DTSTAMP:20260425T102849
CREATED:20251215T213659Z
LAST-MODIFIED:20251215T213700Z
UID:18668-1766167200-1766309400@federacioncanariadenatacion.es
SUMMARY:Regional Master de invierno 2025
DESCRIPTION:
URL:https://federacioncanariadenatacion.es/event/regional-master-de-invierno-2025/
LOCATION:C.N. Metropole\, Calle León y Castillo\, 254\, Las Palmas de Gran Canaria\, LAS PALMAS\, 35005\, España
CATEGORIES:MASTER
ATTACH;FMTTYPE=image/png:https://federacioncanariadenatacion.es/wp-content/uploads/2025/12/CtoRegMasterInv.png
END:VEVENT
BEGIN:VEVENT
DTSTART;TZID=UTC:20251212T180000
DTEND;TZID=UTC:20251214T100000
DTSTAMP:20260425T102849
CREATED:20251210T095636Z
LAST-MODIFIED:20251210T095636Z
UID:18645-1765562400-1765706400@federacioncanariadenatacion.es
SUMMARY:Clasificatorio FFTT de natación 2025
DESCRIPTION:
URL:https://federacioncanariadenatacion.es/event/clasificatorio-fftt-de-natacion-2025/
LOCATION:C.N. Metropole\, Calle León y Castillo\, 254\, Las Palmas de Gran Canaria\, LAS PALMAS\, 35005\, España
CATEGORIES:NATACIÓN
ATTACH;FMTTYPE=image/png:https://federacioncanariadenatacion.es/wp-content/uploads/2025/12/FFTT.png
END:VEVENT
BEGIN:VEVENT
DTSTART;TZID=UTC:20251207T100000
DTEND;TZID=UTC:20251207T140000
DTSTAMP:20260425T102849
CREATED:20251203T095648Z
LAST-MODIFIED:20251203T095649Z
UID:18631-1765101600-1765116000@federacioncanariadenatacion.es
SUMMARY:Fase autonómica de Larga distancia
DESCRIPTION:
URL:https://federacioncanariadenatacion.es/event/fase-autonomica-de-larga-distancia/
LOCATION:C.N. Las Palmas\, Calle Emilio Ley\, Las Palmas de Gran Canaria\, Las Palmas\, 35005\, España
CATEGORIES:NATACIÓN
ATTACH;FMTTYPE=image/png:https://federacioncanariadenatacion.es/wp-content/uploads/2025/12/CtoRegLargaDist.png
END:VEVENT
BEGIN:VEVENT
DTSTART;TZID=UTC:20251130T113000
DTEND;TZID=UTC:20251130T170000
DTSTAMP:20260425T102849
CREATED:20251127T123545Z
LAST-MODIFIED:20251127T123545Z
UID:18612-1764502200-1764522000@federacioncanariadenatacion.es
SUMMARY:Jornada de liga regional de waterpolo benjamin
DESCRIPTION:
URL:https://federacioncanariadenatacion.es/event/jornada-de-liga-regional-de-waterpolo-benjamin/
LOCATION:Piscina Municipal 29 de Abril\, Calle Mariucha\, 82\, Las Palmas de Gran Canaria\, Gran Canaria\, 35012\, España
CATEGORIES:WATERPOLO
ATTACH;FMTTYPE=image/png:https://federacioncanariadenatacion.es/wp-content/uploads/2023/12/comp-wp.png
END:VEVENT
BEGIN:VEVENT
DTSTART;TZID=UTC:20251129T100000
DTEND;TZID=UTC:20251129T190000
DTSTAMP:20260425T102849
CREATED:20251127T122445Z
LAST-MODIFIED:20251127T122445Z
UID:18604-1764410400-1764442800@federacioncanariadenatacion.es
SUMMARY:3ª Jornada liga benjamin-alevin GC
DESCRIPTION:la competición se realiza en dos grupos de competición\, uno de mañana y uno de tarde
URL:https://federacioncanariadenatacion.es/event/3a-jornada-liga-benjamin-alevin-gc/
LOCATION:Piscina Municipal 29 de Abril\, Calle Mariucha\, 82\, Las Palmas de Gran Canaria\, Gran Canaria\, 35012\, España
CATEGORIES:NATACIÓN
ATTACH;FMTTYPE=image/png:https://federacioncanariadenatacion.es/wp-content/uploads/2023/11/comp-natacion.png
END:VEVENT
BEGIN:VEVENT
DTSTART;TZID=UTC:20251129T100000
DTEND;TZID=UTC:20251129T170000
DTSTAMP:20260425T102849
CREATED:20251127T121952Z
LAST-MODIFIED:20251127T121952Z
UID:18602-1764410400-1764435600@federacioncanariadenatacion.es
SUMMARY:3ª Jornada liga infantil-junior-absoluta LZT-FUE
DESCRIPTION:
URL:https://federacioncanariadenatacion.es/event/3a-jornada-liga-infantil-junior-absoluta-lzt-fue/
LOCATION:Las Palmas
CATEGORIES:NATACIÓN
ATTACH;FMTTYPE=image/png:https://federacioncanariadenatacion.es/wp-content/uploads/2023/11/comp-natacion.png
END:VEVENT
BEGIN:VEVENT
DTSTART;TZID=UTC:20251129T100000
DTEND;TZID=UTC:20251129T170000
DTSTAMP:20260425T102849
CREATED:20251127T121740Z
LAST-MODIFIED:20251127T121740Z
UID:18600-1764410400-1764435600@federacioncanariadenatacion.es
SUMMARY:3ª Jornada liga benjamin-alevin LZT-FUE
DESCRIPTION:
URL:https://federacioncanariadenatacion.es/event/3a-jornada-liga-benjamin-alevin-lzt-fue/
LOCATION:Las Palmas
CATEGORIES:NATACIÓN
ATTACH;FMTTYPE=image/png:https://federacioncanariadenatacion.es/wp-content/uploads/2023/11/comp-natacion.png
END:VEVENT
BEGIN:VEVENT
DTSTART;TZID=UTC:20251129T093000
DTEND;TZID=UTC:20251129T170000
DTSTAMP:20260425T102849
CREATED:20251127T123211Z
LAST-MODIFIED:20251127T123211Z
UID:18610-1764408600-1764435600@federacioncanariadenatacion.es
SUMMARY:Jornada de liga regional juvenil de waterpolo
DESCRIPTION:
URL:https://federacioncanariadenatacion.es/event/jornada-de-liga-regional-juvenil-de-waterpolo/
LOCATION:Piscina Municipal Acidalio Lorenzo\, Calle Benito Perez Armas\,1\, Santa Cruz de Tenerife\, Tenerife\, 38007\, España
CATEGORIES:WATERPOLO
END:VEVENT
BEGIN:VEVENT
DTSTART;TZID=UTC:20251129T080000
DTEND;TZID=UTC:20251129T170000
DTSTAMP:20260425T102849
CREATED:20251127T123041Z
LAST-MODIFIED:20251127T123041Z
UID:18608-1764403200-1764435600@federacioncanariadenatacion.es
SUMMARY:3ª jornada liga alevin TFE
DESCRIPTION:
URL:https://federacioncanariadenatacion.es/event/3a-jornada-liga-alevin-tfe-3/
LOCATION:Las Palmas
CATEGORIES:NATACIÓN
ATTACH;FMTTYPE=image/png:https://federacioncanariadenatacion.es/wp-content/uploads/2023/11/comp-natacion.png
END:VEVENT
BEGIN:VEVENT
DTSTART;TZID=UTC:20251129T080000
DTEND;TZID=UTC:20251129T170000
DTSTAMP:20260425T102849
CREATED:20251127T122902Z
LAST-MODIFIED:20251127T122902Z
UID:18606-1764403200-1764435600@federacioncanariadenatacion.es
SUMMARY:3ª Jornada liga benjamin TFE
DESCRIPTION:
URL:https://federacioncanariadenatacion.es/event/3a-jornada-liga-benjamin-tfe-3/
LOCATION:Las Palmas
CATEGORIES:NATACIÓN
ATTACH;FMTTYPE=image/png:https://federacioncanariadenatacion.es/wp-content/uploads/2023/11/comp-natacion.png
END:VEVENT
BEGIN:VEVENT
DTSTART;TZID=UTC:20251122T120000
DTEND;TZID=UTC:20251122T170000
DTSTAMP:20260425T102849
CREATED:20251119T133544Z
LAST-MODIFIED:20251119T133544Z
UID:18559-1763812800-1763830800@federacioncanariadenatacion.es
SUMMARY:Jornada liga infantil de waterpolo
DESCRIPTION:
URL:https://federacioncanariadenatacion.es/event/jornada-liga-infantil-de-waterpolo/
LOCATION:C.N. Las Palmas\, Calle Emilio Ley\, Las Palmas de Gran Canaria\, Las Palmas\, 35005\, España
CATEGORIES:WATERPOLO
ATTACH;FMTTYPE=image/png:https://federacioncanariadenatacion.es/wp-content/uploads/2023/12/comp-wp.png
END:VEVENT
BEGIN:VEVENT
DTSTART;TZID=UTC:20251122T100000
DTEND;TZID=UTC:20251123T160000
DTSTAMP:20260425T102849
CREATED:20251119T133240Z
LAST-MODIFIED:20251119T133240Z
UID:18555-1763805600-1763913600@federacioncanariadenatacion.es
SUMMARY:Copa Absoluta de Clubs 1ª Fase
DESCRIPTION:
URL:https://federacioncanariadenatacion.es/event/copa-absoluta-de-clubs-1a-fase/
LOCATION:C.N. Metropole\, Calle León y Castillo\, 254\, Las Palmas de Gran Canaria\, LAS PALMAS\, 35005\, España
CATEGORIES:NATACIÓN
ATTACH;FMTTYPE=image/png:https://federacioncanariadenatacion.es/wp-content/uploads/2023/11/comp-natacion.png
END:VEVENT
BEGIN:VEVENT
DTSTART;TZID=UTC:20251116T120000
DTEND;TZID=UTC:20251116T170000
DTSTAMP:20260425T102849
CREATED:20251110T084300Z
LAST-MODIFIED:20251110T084300Z
UID:18517-1763294400-1763312400@federacioncanariadenatacion.es
SUMMARY:Jornada liga alevin de waterpolo
DESCRIPTION:
URL:https://federacioncanariadenatacion.es/event/jornada-liga-alevin-de-waterpolo-2/
LOCATION:C.N. Metropole\, Calle León y Castillo\, 254\, Las Palmas de Gran Canaria\, LAS PALMAS\, 35005\, España
CATEGORIES:WATERPOLO
ATTACH;FMTTYPE=image/png:https://federacioncanariadenatacion.es/wp-content/uploads/2023/12/comp-wp.png
END:VEVENT
BEGIN:VEVENT
DTSTART;TZID=UTC:20251116T110000
DTEND;TZID=UTC:20251116T130000
DTSTAMP:20260425T102849
CREATED:20251110T083255Z
LAST-MODIFIED:20251110T083255Z
UID:18509-1763290800-1763298000@federacioncanariadenatacion.es
SUMMARY:2ª Jornada liga master otoño TFE
DESCRIPTION:
URL:https://federacioncanariadenatacion.es/event/2a-jornada-liga-master-otono-tfe/
LOCATION:Piscina Municipal Acidalio Lorenzo\, Calle Benito Perez Armas\,1\, Santa Cruz de Tenerife\, Tenerife\, 38007\, España
CATEGORIES:MASTER
ATTACH;FMTTYPE=image/png:https://federacioncanariadenatacion.es/wp-content/uploads/2023/12/comp-master.png
END:VEVENT
BEGIN:VEVENT
DTSTART;TZID=UTC:20251115T160000
DTEND;TZID=UTC:20251115T183000
DTSTAMP:20260425T102849
CREATED:20251110T083758Z
LAST-MODIFIED:20251110T083758Z
UID:18513-1763222400-1763231400@federacioncanariadenatacion.es
SUMMARY:Jornada infantil\, junior & Senior de natación TFE
DESCRIPTION:
URL:https://federacioncanariadenatacion.es/event/jornada-infantil-junior-senior-de-natacion-tfe/
LOCATION:Piscina Municipal Acidalio Lorenzo\, Calle Benito Perez Armas\,1\, Santa Cruz de Tenerife\, Tenerife\, 38007\, España
CATEGORIES:NATACIÓN
ATTACH;FMTTYPE=image/png:https://federacioncanariadenatacion.es/wp-content/uploads/2023/11/comp-natacion.png
END:VEVENT
BEGIN:VEVENT
DTSTART;TZID=UTC:20251115T160000
DTEND;TZID=UTC:20251115T180000
DTSTAMP:20260425T102849
CREATED:20251110T082744Z
LAST-MODIFIED:20251110T082744Z
UID:18507-1763222400-1763229600@federacioncanariadenatacion.es
SUMMARY:2ª Jornada liga otoño GC
DESCRIPTION:
URL:https://federacioncanariadenatacion.es/event/2a-jornada-liga-otono-gc/
LOCATION:Piscina Municipal 29 de Abril\, Calle Mariucha\, 82\, Las Palmas de Gran Canaria\, Gran Canaria\, 35012\, España
CATEGORIES:MASTER
ATTACH;FMTTYPE=image/png:https://federacioncanariadenatacion.es/wp-content/uploads/2023/12/comp-master.png
END:VEVENT
BEGIN:VEVENT
DTSTART;TZID=UTC:20251115T113000
DTEND;TZID=UTC:20251115T170000
DTSTAMP:20260425T102849
CREATED:20251110T084116Z
LAST-MODIFIED:20251110T084116Z
UID:18515-1763206200-1763226000@federacioncanariadenatacion.es
SUMMARY:Jornada de liga absoluta de waterpolo
DESCRIPTION:
URL:https://federacioncanariadenatacion.es/event/jornada-de-liga-absoluta-de-waterpolo-4/
LOCATION:C.N. Las Palmas\, Calle Emilio Ley\, Las Palmas de Gran Canaria\, Las Palmas\, 35005\, España
CATEGORIES:WATERPOLO
ATTACH;FMTTYPE=image/png:https://federacioncanariadenatacion.es/wp-content/uploads/2023/12/comp-wp.png
END:VEVENT
BEGIN:VEVENT
DTSTART;TZID=UTC:20251115T093000
DTEND;TZID=UTC:20251115T170000
DTSTAMP:20260425T102849
CREATED:20251110T083526Z
LAST-MODIFIED:20251110T083526Z
UID:18511-1763199000-1763226000@federacioncanariadenatacion.es
SUMMARY:Jornada liga infantil\, junioi & Senior de natación GC
DESCRIPTION:
URL:https://federacioncanariadenatacion.es/event/jornada-liga-infantil-junioi-senior-de-natacion-gc/
LOCATION:PISCINA MUNICIPAL DE INGENIO\, RAFAEL ALBERTI\, 5\, INGENIO\, Las Palmas\, 35250\, España
CATEGORIES:NATACIÓN
ATTACH;FMTTYPE=image/png:https://federacioncanariadenatacion.es/wp-content/uploads/2023/11/comp-natacion.png
END:VEVENT
END:VCALENDAR